BEGIN:VCALENDAR
VERSION:2.0
PRODID:-//GREENWICH STOW CREEK REGIONAL SCHOOL DISTRICT - ECPv6.15.14//NONSGML v1.0//EN
CALSCALE:GREGORIAN
METHOD:PUBLISH
X-WR-CALNAME:GREENWICH STOW CREEK REGIONAL SCHOOL DISTRICT
X-ORIGINAL-URL:https://gscnj.org
X-WR-CALDESC:Events for GREENWICH STOW CREEK REGIONAL SCHOOL DISTRICT
REFRESH-INTERVAL;VALUE=DURATION:PT1H
X-Robots-Tag:noindex
X-PUBLISHED-TTL:PT1H
BEGIN:VTIMEZONE
TZID:America/New_York
BEGIN:DAYLIGHT
TZOFFSETFROM:-0500
TZOFFSETTO:-0400
TZNAME:EDT
DTSTART:20230312T070000
END:DAYLIGHT
BEGIN:STANDARD
TZOFFSETFROM:-0400
TZOFFSETTO:-0500
TZNAME:EST
DTSTART:20231105T060000
END:STANDARD
BEGIN:DAYLIGHT
TZOFFSETFROM:-0500
TZOFFSETTO:-0400
TZNAME:EDT
DTSTART:20240310T070000
END:DAYLIGHT
BEGIN:STANDARD
TZOFFSETFROM:-0400
TZOFFSETTO:-0500
TZNAME:EST
DTSTART:20241103T060000
END:STANDARD
BEGIN:DAYLIGHT
TZOFFSETFROM:-0500
TZOFFSETTO:-0400
TZNAME:EDT
DTSTART:20250309T070000
END:DAYLIGHT
BEGIN:STANDARD
TZOFFSETFROM:-0400
TZOFFSETTO:-0500
TZNAME:EST
DTSTART:20251102T060000
END:STANDARD
BEGIN:DAYLIGHT
TZOFFSETFROM:-0500
TZOFFSETTO:-0400
TZNAME:EDT
DTSTART:20260308T070000
END:DAYLIGHT
BEGIN:STANDARD
TZOFFSETFROM:-0400
TZOFFSETTO:-0500
TZNAME:EST
DTSTART:20261101T060000
END:STANDARD
END:VTIMEZONE
BEGIN:VEVENT
DTSTART;TZID=America/New_York:20251223T123000
DTEND;TZID=America/New_York:20251223T170000
DTSTAMP:20260423T194332
CREATED:20251030T122533Z
LAST-MODIFIED:20251030T122533Z
UID:5129-1766493000-1766509200@gscnj.org
SUMMARY:Early Dismissal
DESCRIPTION:Early Dismissal \nStow Creek dismisses at 12:20pm \nMorris Goodwin dismisses at 12:30pm
URL:https://gscnj.org/event/early-dismissal-7/
END:VEVENT
BEGIN:VEVENT
DTSTART;VALUE=DATE:20251218
DTEND;VALUE=DATE:20251219
DTSTAMP:20260423T194332
CREATED:20251030T123445Z
LAST-MODIFIED:20251030T123445Z
UID:5153-1766016000-1766102399@gscnj.org
SUMMARY:MGS Holiday Concert
DESCRIPTION:MGS Holiday Concert \nK-4th grade \n1pm Dress Rehearsal \n7pm Concert
URL:https://gscnj.org/event/mgs-holiday-concert-2/
END:VEVENT
BEGIN:VEVENT
DTSTART;TZID=America/New_York:20251212T123000
DTEND;TZID=America/New_York:20251212T170000
DTSTAMP:20260423T194332
CREATED:20251030T122511Z
LAST-MODIFIED:20251030T122511Z
UID:5127-1765542600-1765558800@gscnj.org
SUMMARY:Early Dismissal
DESCRIPTION:Early Dismissal \nStow Creek dismisses at 12:20pm \nMorris Goodwin dismisses at 12:30pm
URL:https://gscnj.org/event/early-dismissal-6/
END:VEVENT
BEGIN:VEVENT
DTSTART;VALUE=DATE:20251127
DTEND;VALUE=DATE:20251201
DTSTAMP:20260423T194332
CREATED:20251030T122431Z
LAST-MODIFIED:20251030T122431Z
UID:5125-1764201600-1764547199@gscnj.org
SUMMARY:School Closed
DESCRIPTION:School Closed
URL:https://gscnj.org/event/school-closed-20/
END:VEVENT
BEGIN:VEVENT
DTSTART;VALUE=DATE:20251124
DTEND;VALUE=DATE:20251127
DTSTAMP:20260423T194332
CREATED:20251030T122359Z
LAST-MODIFIED:20251030T122359Z
UID:5123-1763942400-1764201599@gscnj.org
SUMMARY:Early Dismissal
DESCRIPTION:Early Dismissal \nStow Creek dismisses at 12:20pm \nMorris Goodwin dismisses at 12:30pm
URL:https://gscnj.org/event/early-dismissal-5/
END:VEVENT
BEGIN:VEVENT
DTSTART;VALUE=DATE:20251124
DTEND;VALUE=DATE:20251126
DTSTAMP:20260423T194332
CREATED:20251030T123331Z
LAST-MODIFIED:20251030T123331Z
UID:5151-1763942400-1764115199@gscnj.org
SUMMARY:Parent Teacher Conferences
DESCRIPTION:Parent Teacher Conferences
URL:https://gscnj.org/event/parent-teacher-conferences-2/
END:VEVENT
BEGIN:VEVENT
DTSTART;TZID=America/New_York:20251121T123000
DTEND;TZID=America/New_York:20251121T170000
DTSTAMP:20260423T194332
CREATED:20251030T122324Z
LAST-MODIFIED:20251030T122324Z
UID:5121-1763728200-1763744400@gscnj.org
SUMMARY:Early Dismissal
DESCRIPTION:Early Dismissal \nStow Creek dismisses at 12:20pm \nMorris Goodwin dismisses at 12:30pm
URL:https://gscnj.org/event/early-dismissal-4/
END:VEVENT
BEGIN:VEVENT
DTSTART;VALUE=DATE:20251121
DTEND;VALUE=DATE:20251122
DTSTAMP:20260423T194332
CREATED:20251030T123249Z
LAST-MODIFIED:20251030T123249Z
UID:5149-1763683200-1763769599@gscnj.org
SUMMARY:Parent Teacher Conferences
DESCRIPTION:Parent Teacher Conferences
URL:https://gscnj.org/event/parent-teacher-conferences/
END:VEVENT
BEGIN:VEVENT
DTSTART;VALUE=DATE:20251106
DTEND;VALUE=DATE:20251110
DTSTAMP:20260423T194332
CREATED:20251030T122227Z
LAST-MODIFIED:20251030T122227Z
UID:5119-1762387200-1762732799@gscnj.org
SUMMARY:School Closed
DESCRIPTION:School Closed
URL:https://gscnj.org/event/school-closed-19/
END:VEVENT
BEGIN:VEVENT
DTSTART;VALUE=DATE:20251104
DTEND;VALUE=DATE:20251105
DTSTAMP:20260423T194332
CREATED:20251030T122151Z
LAST-MODIFIED:20251030T122151Z
UID:5117-1762214400-1762300799@gscnj.org
SUMMARY:School Closed
DESCRIPTION:School Closed – Election Day
URL:https://gscnj.org/event/school-closed-18/
END:VEVENT
BEGIN:VEVENT
DTSTART;VALUE=DATE:20250526
DTEND;VALUE=DATE:20250527
DTSTAMP:20260423T194332
CREATED:20241202T140548Z
LAST-MODIFIED:20241202T140548Z
UID:4513-1748217600-1748303999@gscnj.org
SUMMARY:School Closed
DESCRIPTION:School Closed – Memorial Day
URL:https://gscnj.org/event/school-closed-17/
END:VEVENT
BEGIN:VEVENT
DTSTART;VALUE=DATE:20250418
DTEND;VALUE=DATE:20250426
DTSTAMP:20260423T194332
CREATED:20241202T140507Z
LAST-MODIFIED:20241202T140507Z
UID:4511-1744934400-1745625599@gscnj.org
SUMMARY:School Closed
DESCRIPTION:School Closed – Spring Break
URL:https://gscnj.org/event/school-closed-16/
END:VEVENT
BEGIN:VEVENT
DTSTART;TZID=America/New_York:20250417T080000
DTEND;TZID=America/New_York:20250417T123000
DTSTAMP:20260423T194332
CREATED:20241202T140426Z
LAST-MODIFIED:20241202T140426Z
UID:4509-1744876800-1744893000@gscnj.org
SUMMARY:Early Dismissal
DESCRIPTION:Early Dismissal – Spring Break
URL:https://gscnj.org/event/early-dismissal-3/
END:VEVENT
BEGIN:VEVENT
DTSTART;TZID=America/New_York:20250314T123000
DTEND;TZID=America/New_York:20250314T123000
DTSTAMP:20260423T194332
CREATED:20241202T140312Z
LAST-MODIFIED:20250117T150550Z
UID:4507-1741955400-1741955400@gscnj.org
SUMMARY:Early Dismissal
DESCRIPTION:Early Dismissal – Teacher In-Service
URL:https://gscnj.org/event/school-closed-15/
END:VEVENT
BEGIN:VEVENT
DTSTART;VALUE=DATE:20250217
DTEND;VALUE=DATE:20250218
DTSTAMP:20260423T194332
CREATED:20241202T140223Z
LAST-MODIFIED:20241202T140223Z
UID:4505-1739750400-1739836799@gscnj.org
SUMMARY:School Closed
DESCRIPTION:School Closed – Presidents’ Day
URL:https://gscnj.org/event/school-closed-14/
END:VEVENT
BEGIN:VEVENT
DTSTART;VALUE=DATE:20250120
DTEND;VALUE=DATE:20250121
DTSTAMP:20260423T194332
CREATED:20241202T140125Z
LAST-MODIFIED:20241202T140125Z
UID:4503-1737331200-1737417599@gscnj.org
SUMMARY:School Closed
DESCRIPTION:School Closed – MLK Day
URL:https://gscnj.org/event/school-closed-13/
END:VEVENT
BEGIN:VEVENT
DTSTART;VALUE=DATE:20250102
DTEND;VALUE=DATE:20250103
DTSTAMP:20260423T194332
CREATED:20241202T140039Z
LAST-MODIFIED:20241202T140039Z
UID:4501-1735776000-1735862399@gscnj.org
SUMMARY:School Re-opens
DESCRIPTION:School Re-Opens after Winter Break
URL:https://gscnj.org/event/school-re-opens/
END:VEVENT
BEGIN:VEVENT
DTSTART;VALUE=DATE:20241224
DTEND;VALUE=DATE:20250102
DTSTAMP:20260423T194332
CREATED:20241202T135727Z
LAST-MODIFIED:20241202T135727Z
UID:4497-1734998400-1735775999@gscnj.org
SUMMARY:School Closed
DESCRIPTION:School Closed – Winter Break
URL:https://gscnj.org/event/school-closed/
END:VEVENT
BEGIN:VEVENT
DTSTART;TZID=America/New_York:20241223T080000
DTEND;TZID=America/New_York:20241223T123000
DTSTAMP:20260423T194332
CREATED:20241202T135649Z
LAST-MODIFIED:20241202T135649Z
UID:4495-1734940800-1734957000@gscnj.org
SUMMARY:Early Dismissal
DESCRIPTION:Early Dismissal – Winter Break
URL:https://gscnj.org/event/early-dismissal-2/
END:VEVENT
BEGIN:VEVENT
DTSTART;TZID=America/New_York:20241213T080000
DTEND;TZID=America/New_York:20241213T123000
DTSTAMP:20260423T194332
CREATED:20241202T135618Z
LAST-MODIFIED:20241202T135618Z
UID:4493-1734076800-1734093000@gscnj.org
SUMMARY:Early Dismissal
DESCRIPTION:Early Dismissal – Teacher In-Service
URL:https://gscnj.org/event/early-dismissal/
END:VEVENT
BEGIN:VEVENT
DTSTART;TZID=America/New_York:20241212T190000
DTEND;TZID=America/New_York:20241212T200000
DTSTAMP:20260423T194332
CREATED:20241202T135853Z
LAST-MODIFIED:20241202T135853Z
UID:4499-1734030000-1734033600@gscnj.org
SUMMARY:MGS Holiday Concert
DESCRIPTION:MGS Holiday Concert – 7:00pm \nK-4th grade students
URL:https://gscnj.org/event/mgs-holiday-concert/
END:VEVENT
BEGIN:VEVENT
DTSTART;VALUE=DATE:20241128
DTEND;VALUE=DATE:20241130
DTSTAMP:20260423T194332
CREATED:20240909T162206Z
LAST-MODIFIED:20240909T162206Z
UID:4347-1732752000-1732924799@gscnj.org
SUMMARY:School Closed - Thanksgiving
DESCRIPTION:School Closed – Thanksgiving
URL:https://gscnj.org/event/school-closed-thanksgiving/
END:VEVENT
BEGIN:VEVENT
DTSTART;TZID=America/New_York:20241127T122000
DTEND;TZID=America/New_York:20241127T123000
DTSTAMP:20260423T194332
CREATED:20240909T162131Z
LAST-MODIFIED:20240909T162336Z
UID:4345-1732710000-1732710600@gscnj.org
SUMMARY:Early Dismissal - Thanksgiving
DESCRIPTION:Early Dismissal – Thanksgiving \nSCS will dismiss at 12:20pm \nMGS will dismiss at 12:30pm
URL:https://gscnj.org/event/early-dismissal-thanksgiving/
END:VEVENT
BEGIN:VEVENT
DTSTART;TZID=America/New_York:20241127T090000
DTEND;TZID=America/New_York:20241127T093000
DTSTAMP:20260423T194332
CREATED:20241120T181705Z
LAST-MODIFIED:20241120T181705Z
UID:4479-1732698000-1732699800@gscnj.org
SUMMARY:Stow Creek Awards Assembly
DESCRIPTION:1st Marking Period Awards Assembly @ Stow Creek \n9am – 11/27/24
URL:https://gscnj.org/event/stow-creek-awards-assembly/
END:VEVENT
BEGIN:VEVENT
DTSTART;VALUE=DATE:20241122
DTEND;VALUE=DATE:20241127
DTSTAMP:20260423T194332
CREATED:20240909T162039Z
LAST-MODIFIED:20240909T162039Z
UID:4343-1732233600-1732665599@gscnj.org
SUMMARY:Early Dismissal - Conferences
DESCRIPTION:Early Dismissal – Parent-Teacher Conferences \nSCS will dismiss at 12:20pm \nMGS will dismiss at 12:30pm
URL:https://gscnj.org/event/early-dismissal-conferences-3/
END:VEVENT
BEGIN:VEVENT
DTSTART;VALUE=DATE:20241111
DTEND;VALUE=DATE:20241112
DTSTAMP:20260423T194332
CREATED:20240909T161926Z
LAST-MODIFIED:20240909T161926Z
UID:4341-1731283200-1731369599@gscnj.org
SUMMARY:School Closed - Veteran's Day
DESCRIPTION:School Closed – Veteran’s Day
URL:https://gscnj.org/event/school-closed-veterans-day/
END:VEVENT
BEGIN:VEVENT
DTSTART;VALUE=DATE:20241107
DTEND;VALUE=DATE:20241109
DTSTAMP:20260423T194332
CREATED:20240909T161851Z
LAST-MODIFIED:20240909T161852Z
UID:4339-1730937600-1731110399@gscnj.org
SUMMARY:School Closed - NJEA Convention
DESCRIPTION:School Closed – NJEA Convention
URL:https://gscnj.org/event/school-closed-njea-convention/
END:VEVENT
BEGIN:VEVENT
DTSTART;VALUE=DATE:20241105
DTEND;VALUE=DATE:20241106
DTSTAMP:20260423T194332
CREATED:20240909T161812Z
LAST-MODIFIED:20240909T161812Z
UID:4337-1730764800-1730851199@gscnj.org
SUMMARY:Staff Only - Teacher In-Service
DESCRIPTION:Staff Only – Teacher In-Service
URL:https://gscnj.org/event/staff-only-teacher-in-service-2/
END:VEVENT
BEGIN:VEVENT
DTSTART;TZID=America/New_York:20241025T122000
DTEND;TZID=America/New_York:20241025T123000
DTSTAMP:20260423T194332
CREATED:20240909T161729Z
LAST-MODIFIED:20240909T162420Z
UID:4335-1729858800-1729859400@gscnj.org
SUMMARY:Early Dismissal - Teacher In-Service
DESCRIPTION:Early Dismissal \nSCS will dismiss at 12:20pm \nMGS will dismiss at 12:30pm
URL:https://gscnj.org/event/early-dismissal-teacher-in-service/
END:VEVENT
BEGIN:VEVENT
DTSTART;VALUE=DATE:20241014
DTEND;VALUE=DATE:20241015
DTSTAMP:20260423T194332
CREATED:20240909T161634Z
LAST-MODIFIED:20240909T161634Z
UID:4333-1728864000-1728950399@gscnj.org
SUMMARY:School Closed - Columbus Day
DESCRIPTION:School Closed – Columbus Day
URL:https://gscnj.org/event/school-closed-columbus-day/
END:VEVENT
END:VCALENDAR