BEGIN:VCALENDAR
VERSION:2.0
PRODID:-//GREENWICH STOW CREEK REGIONAL SCHOOL DISTRICT - ECPv6.15.14//NONSGML v1.0//EN
CALSCALE:GREGORIAN
METHOD:PUBLISH
X-WR-CALNAME:GREENWICH STOW CREEK REGIONAL SCHOOL DISTRICT
X-ORIGINAL-URL:https://gscnj.org
X-WR-CALDESC:Events for GREENWICH STOW CREEK REGIONAL SCHOOL DISTRICT
REFRESH-INTERVAL;VALUE=DURATION:PT1H
X-Robots-Tag:noindex
X-PUBLISHED-TTL:PT1H
BEGIN:VTIMEZONE
TZID:America/New_York
BEGIN:DAYLIGHT
TZOFFSETFROM:-0500
TZOFFSETTO:-0400
TZNAME:EDT
DTSTART:20240310T070000
END:DAYLIGHT
BEGIN:STANDARD
TZOFFSETFROM:-0400
TZOFFSETTO:-0500
TZNAME:EST
DTSTART:20241103T060000
END:STANDARD
BEGIN:DAYLIGHT
TZOFFSETFROM:-0500
TZOFFSETTO:-0400
TZNAME:EDT
DTSTART:20250309T070000
END:DAYLIGHT
BEGIN:STANDARD
TZOFFSETFROM:-0400
TZOFFSETTO:-0500
TZNAME:EST
DTSTART:20251102T060000
END:STANDARD
BEGIN:DAYLIGHT
TZOFFSETFROM:-0500
TZOFFSETTO:-0400
TZNAME:EDT
DTSTART:20260308T070000
END:DAYLIGHT
BEGIN:STANDARD
TZOFFSETFROM:-0400
TZOFFSETTO:-0500
TZNAME:EST
DTSTART:20261101T060000
END:STANDARD
BEGIN:DAYLIGHT
TZOFFSETFROM:-0500
TZOFFSETTO:-0400
TZNAME:EDT
DTSTART:20270314T070000
END:DAYLIGHT
BEGIN:STANDARD
TZOFFSETFROM:-0400
TZOFFSETTO:-0500
TZNAME:EST
DTSTART:20271107T060000
END:STANDARD
END:VTIMEZONE
BEGIN:VEVENT
DTSTART;VALUE=DATE:20251124
DTEND;VALUE=DATE:20251127
DTSTAMP:20260425T121643
CREATED:20251030T122359Z
LAST-MODIFIED:20251030T122359Z
UID:5123-1763942400-1764201599@gscnj.org
SUMMARY:Early Dismissal
DESCRIPTION:Early Dismissal \nStow Creek dismisses at 12:20pm \nMorris Goodwin dismisses at 12:30pm
URL:https://gscnj.org/event/early-dismissal-5/
END:VEVENT
BEGIN:VEVENT
DTSTART;VALUE=DATE:20251127
DTEND;VALUE=DATE:20251201
DTSTAMP:20260425T121643
CREATED:20251030T122431Z
LAST-MODIFIED:20251030T122431Z
UID:5125-1764201600-1764547199@gscnj.org
SUMMARY:School Closed
DESCRIPTION:School Closed
URL:https://gscnj.org/event/school-closed-20/
END:VEVENT
BEGIN:VEVENT
DTSTART;TZID=America/New_York:20251212T123000
DTEND;TZID=America/New_York:20251212T170000
DTSTAMP:20260425T121643
CREATED:20251030T122511Z
LAST-MODIFIED:20251030T122511Z
UID:5127-1765542600-1765558800@gscnj.org
SUMMARY:Early Dismissal
DESCRIPTION:Early Dismissal \nStow Creek dismisses at 12:20pm \nMorris Goodwin dismisses at 12:30pm
URL:https://gscnj.org/event/early-dismissal-6/
END:VEVENT
BEGIN:VEVENT
DTSTART;VALUE=DATE:20251218
DTEND;VALUE=DATE:20251219
DTSTAMP:20260425T121643
CREATED:20251030T123445Z
LAST-MODIFIED:20251030T123445Z
UID:5153-1766016000-1766102399@gscnj.org
SUMMARY:MGS Holiday Concert
DESCRIPTION:MGS Holiday Concert \nK-4th grade \n1pm Dress Rehearsal \n7pm Concert
URL:https://gscnj.org/event/mgs-holiday-concert-2/
END:VEVENT
BEGIN:VEVENT
DTSTART;TZID=America/New_York:20251223T123000
DTEND;TZID=America/New_York:20251223T170000
DTSTAMP:20260425T121643
CREATED:20251030T122533Z
LAST-MODIFIED:20251030T122533Z
UID:5129-1766493000-1766509200@gscnj.org
SUMMARY:Early Dismissal
DESCRIPTION:Early Dismissal \nStow Creek dismisses at 12:20pm \nMorris Goodwin dismisses at 12:30pm
URL:https://gscnj.org/event/early-dismissal-7/
END:VEVENT
BEGIN:VEVENT
DTSTART;TZID=America/New_York:20251224T080000
DTEND;TZID=America/New_York:20260104T170000
DTSTAMP:20260425T121643
CREATED:20251030T122645Z
LAST-MODIFIED:20251030T122645Z
UID:5131-1766563200-1767546000@gscnj.org
SUMMARY:School Closed
DESCRIPTION:School Closed
URL:https://gscnj.org/event/school-closed-21/
END:VEVENT
BEGIN:VEVENT
DTSTART;VALUE=DATE:20260119
DTEND;VALUE=DATE:20260120
DTSTAMP:20260425T121643
CREATED:20251030T122710Z
LAST-MODIFIED:20251030T122710Z
UID:5133-1768780800-1768867199@gscnj.org
SUMMARY:School Closed
DESCRIPTION:School Closed
URL:https://gscnj.org/event/school-closed-22/
END:VEVENT
BEGIN:VEVENT
DTSTART;VALUE=DATE:20260216
DTEND;VALUE=DATE:20260217
DTSTAMP:20260425T121643
CREATED:20251030T122743Z
LAST-MODIFIED:20251030T122743Z
UID:5135-1771200000-1771286399@gscnj.org
SUMMARY:School Closed
DESCRIPTION:School Closed
URL:https://gscnj.org/event/school-closed-23/
END:VEVENT
BEGIN:VEVENT
DTSTART;VALUE=DATE:20260320
DTEND;VALUE=DATE:20260321
DTSTAMP:20260425T121643
CREATED:20251030T122808Z
LAST-MODIFIED:20251030T122808Z
UID:5137-1773964800-1774051199@gscnj.org
SUMMARY:School Closed
DESCRIPTION:School Closed
URL:https://gscnj.org/event/school-closed-24/
END:VEVENT
BEGIN:VEVENT
DTSTART;TZID=America/New_York:20260402T123000
DTEND;TZID=America/New_York:20260402T170000
DTSTAMP:20260425T121643
CREATED:20251030T122840Z
LAST-MODIFIED:20251030T122840Z
UID:5139-1775133000-1775149200@gscnj.org
SUMMARY:Early Dismissal
DESCRIPTION:Early Dismissal \nStow Creek dismisses at 12:20pm \nMorris Goodwin dismisses at 12:30pm
URL:https://gscnj.org/event/early-dismissal-16/
END:VEVENT
BEGIN:VEVENT
DTSTART;VALUE=DATE:20260403
DTEND;VALUE=DATE:20260410
DTSTAMP:20260425T121643
CREATED:20251030T122910Z
LAST-MODIFIED:20260330T133047Z
UID:5141-1775174400-1775779199@gscnj.org
SUMMARY:School Closed
DESCRIPTION:School Closed
URL:https://gscnj.org/event/school-closed-25/
END:VEVENT
BEGIN:VEVENT
DTSTART;VALUE=DATE:20260525
DTEND;VALUE=DATE:20260526
DTSTAMP:20260425T121643
CREATED:20251030T122943Z
LAST-MODIFIED:20251030T122943Z
UID:5143-1779667200-1779753599@gscnj.org
SUMMARY:School Closed
DESCRIPTION:School Closed
URL:https://gscnj.org/event/school-closed-26/
END:VEVENT
BEGIN:VEVENT
DTSTART;VALUE=DATE:20260615
DTEND;VALUE=DATE:20260619
DTSTAMP:20260425T121643
CREATED:20251030T123021Z
LAST-MODIFIED:20260330T133411Z
UID:5145-1781481600-1781827199@gscnj.org
SUMMARY:Early Dismissal
DESCRIPTION:Early Dismissal \nStow Creek dismisses at 12:20pm \nMorris Goodwin dismisses at 12:30pm
URL:https://gscnj.org/event/early-dismissal-17/
END:VEVENT
BEGIN:VEVENT
DTSTART;VALUE=DATE:20260619
DTEND;VALUE=DATE:20260620
DTSTAMP:20260425T121643
CREATED:20251030T123104Z
LAST-MODIFIED:20251030T123104Z
UID:5147-1781827200-1781913599@gscnj.org
SUMMARY:School Closed
DESCRIPTION:School Closed
URL:https://gscnj.org/event/school-closed-27/
END:VEVENT
END:VCALENDAR