BEGIN:VCALENDAR
VERSION:2.0
PRODID:-//GREENWICH STOW CREEK REGIONAL SCHOOL DISTRICT - ECPv6.15.14//NONSGML v1.0//EN
CALSCALE:GREGORIAN
METHOD:PUBLISH
X-WR-CALNAME:GREENWICH STOW CREEK REGIONAL SCHOOL DISTRICT
X-ORIGINAL-URL:https://gscnj.org
X-WR-CALDESC:Events for GREENWICH STOW CREEK REGIONAL SCHOOL DISTRICT
REFRESH-INTERVAL;VALUE=DURATION:PT1H
X-Robots-Tag:noindex
X-PUBLISHED-TTL:PT1H
BEGIN:VTIMEZONE
TZID:America/New_York
BEGIN:DAYLIGHT
TZOFFSETFROM:-0500
TZOFFSETTO:-0400
TZNAME:EDT
DTSTART:20230312T070000
END:DAYLIGHT
BEGIN:STANDARD
TZOFFSETFROM:-0400
TZOFFSETTO:-0500
TZNAME:EST
DTSTART:20231105T060000
END:STANDARD
BEGIN:DAYLIGHT
TZOFFSETFROM:-0500
TZOFFSETTO:-0400
TZNAME:EDT
DTSTART:20240310T070000
END:DAYLIGHT
BEGIN:STANDARD
TZOFFSETFROM:-0400
TZOFFSETTO:-0500
TZNAME:EST
DTSTART:20241103T060000
END:STANDARD
BEGIN:DAYLIGHT
TZOFFSETFROM:-0500
TZOFFSETTO:-0400
TZNAME:EDT
DTSTART:20250309T070000
END:DAYLIGHT
BEGIN:STANDARD
TZOFFSETFROM:-0400
TZOFFSETTO:-0500
TZNAME:EST
DTSTART:20251102T060000
END:STANDARD
END:VTIMEZONE
BEGIN:VEVENT
DTSTART;TZID=America/New_York:20240718T190000
DTEND;TZID=America/New_York:20240718T200000
DTSTAMP:20260425T063455
CREATED:20240716T133342Z
LAST-MODIFIED:20240716T133342Z
UID:4253-1721329200-1721332800@gscnj.org
SUMMARY:Community Meeting
DESCRIPTION:Community Meeting \nStow Creek School \nJuly 18\, 2024 \n7pm
URL:https://gscnj.org/event/community-meeting-2/
END:VEVENT
BEGIN:VEVENT
DTSTART;TZID=America/New_York:20240717T190000
DTEND;TZID=America/New_York:20240717T200000
DTSTAMP:20260425T063455
CREATED:20240716T132942Z
LAST-MODIFIED:20240716T132942Z
UID:4251-1721242800-1721246400@gscnj.org
SUMMARY:Community Meeting
DESCRIPTION:Community Meeting \nMorris Goodwin School \nJuly 17\, 2024 \n7pm
URL:https://gscnj.org/event/community-meeting/
END:VEVENT
BEGIN:VEVENT
DTSTART;TZID=America/New_York:20240618T122000
DTEND;TZID=America/New_York:20240618T143000
DTSTAMP:20260425T063455
CREATED:20231023T155631Z
LAST-MODIFIED:20231023T155631Z
UID:3796-1718713200-1718721000@gscnj.org
SUMMARY:Early Dismissal - Last Day
DESCRIPTION:Early Dismissal – Last Day of School \nStow Creek School – 12:20pm \nMorris Goodwin School – 12:30pm
URL:https://gscnj.org/event/early-dismissal-last-day/
END:VEVENT
BEGIN:VEVENT
DTSTART;TZID=America/New_York:20240617T122000
DTEND;TZID=America/New_York:20240617T143000
DTSTAMP:20260425T063455
CREATED:20231023T155537Z
LAST-MODIFIED:20231023T155537Z
UID:3794-1718626800-1718634600@gscnj.org
SUMMARY:Early Dismissal
DESCRIPTION:Early Dismissal \nStow Creek School – 12:20pm \nMorris Goodwin School – 12:30pm
URL:https://gscnj.org/event/early-dismissal-15/
END:VEVENT
BEGIN:VEVENT
DTSTART;TZID=America/New_York:20240614T122000
DTEND;TZID=America/New_York:20240614T143000
DTSTAMP:20260425T063455
CREATED:20231023T155455Z
LAST-MODIFIED:20231023T155455Z
UID:3792-1718367600-1718375400@gscnj.org
SUMMARY:Early Dismissal
DESCRIPTION:Early Dismissal \nStow Creek School – 12:20pm \nMorris Goodwin School – 12:30pm
URL:https://gscnj.org/event/early-dismissal-14/
END:VEVENT
BEGIN:VEVENT
DTSTART;VALUE=DATE:20240527
DTEND;VALUE=DATE:20240528
DTSTAMP:20260425T063455
CREATED:20231023T155417Z
LAST-MODIFIED:20231023T155417Z
UID:3790-1716768000-1716854399@gscnj.org
SUMMARY:School Closed
DESCRIPTION:School Closed
URL:https://gscnj.org/event/school-closed-12/
END:VEVENT
END:VCALENDAR