BEGIN:VCALENDAR
VERSION:2.0
PRODID:-//GREENWICH STOW CREEK REGIONAL SCHOOL DISTRICT - ECPv6.15.14//NONSGML v1.0//EN
CALSCALE:GREGORIAN
METHOD:PUBLISH
X-ORIGINAL-URL:https://gscnj.org
X-WR-CALDESC:Events for GREENWICH STOW CREEK REGIONAL SCHOOL DISTRICT
REFRESH-INTERVAL;VALUE=DURATION:PT1H
X-Robots-Tag:noindex
X-PUBLISHED-TTL:PT1H
BEGIN:VTIMEZONE
TZID:America/New_York
BEGIN:DAYLIGHT
TZOFFSETFROM:-0500
TZOFFSETTO:-0400
TZNAME:EDT
DTSTART:20230312T070000
END:DAYLIGHT
BEGIN:STANDARD
TZOFFSETFROM:-0400
TZOFFSETTO:-0500
TZNAME:EST
DTSTART:20231105T060000
END:STANDARD
BEGIN:DAYLIGHT
TZOFFSETFROM:-0500
TZOFFSETTO:-0400
TZNAME:EDT
DTSTART:20240310T070000
END:DAYLIGHT
BEGIN:STANDARD
TZOFFSETFROM:-0400
TZOFFSETTO:-0500
TZNAME:EST
DTSTART:20241103T060000
END:STANDARD
BEGIN:DAYLIGHT
TZOFFSETFROM:-0500
TZOFFSETTO:-0400
TZNAME:EDT
DTSTART:20250309T070000
END:DAYLIGHT
BEGIN:STANDARD
TZOFFSETFROM:-0400
TZOFFSETTO:-0500
TZNAME:EST
DTSTART:20251102T060000
END:STANDARD
BEGIN:DAYLIGHT
TZOFFSETFROM:-0500
TZOFFSETTO:-0400
TZNAME:EDT
DTSTART:20260308T070000
END:DAYLIGHT
BEGIN:STANDARD
TZOFFSETFROM:-0400
TZOFFSETTO:-0500
TZNAME:EST
DTSTART:20261101T060000
END:STANDARD
END:VTIMEZONE
BEGIN:VEVENT
DTSTART;TZID=America/New_York:20241212T190000
DTEND;TZID=America/New_York:20241212T200000
DTSTAMP:20260425T135737
CREATED:20241202T135853Z
LAST-MODIFIED:20241202T135853Z
UID:4499-1734030000-1734033600@gscnj.org
SUMMARY:MGS Holiday Concert
DESCRIPTION:MGS Holiday Concert – 7:00pm \nK-4th grade students
URL:https://gscnj.org/event/mgs-holiday-concert/
END:VEVENT
BEGIN:VEVENT
DTSTART;TZID=America/New_York:20241213T080000
DTEND;TZID=America/New_York:20241213T123000
DTSTAMP:20260425T135737
CREATED:20241202T135618Z
LAST-MODIFIED:20241202T135618Z
UID:4493-1734076800-1734093000@gscnj.org
SUMMARY:Early Dismissal
DESCRIPTION:Early Dismissal – Teacher In-Service
URL:https://gscnj.org/event/early-dismissal/
END:VEVENT
BEGIN:VEVENT
DTSTART;TZID=America/New_York:20241223T080000
DTEND;TZID=America/New_York:20241223T123000
DTSTAMP:20260425T135737
CREATED:20241202T135649Z
LAST-MODIFIED:20241202T135649Z
UID:4495-1734940800-1734957000@gscnj.org
SUMMARY:Early Dismissal
DESCRIPTION:Early Dismissal – Winter Break
URL:https://gscnj.org/event/early-dismissal-2/
END:VEVENT
BEGIN:VEVENT
DTSTART;VALUE=DATE:20241224
DTEND;VALUE=DATE:20250102
DTSTAMP:20260425T135737
CREATED:20241202T135727Z
LAST-MODIFIED:20241202T135727Z
UID:4497-1734998400-1735775999@gscnj.org
SUMMARY:School Closed
DESCRIPTION:School Closed – Winter Break
URL:https://gscnj.org/event/school-closed/
END:VEVENT
END:VCALENDAR