BEGIN:VCALENDAR
VERSION:2.0
PRODID:-//GREENWICH STOW CREEK REGIONAL SCHOOL DISTRICT - ECPv6.15.14//NONSGML v1.0//EN
CALSCALE:GREGORIAN
METHOD:PUBLISH
X-ORIGINAL-URL:https://gscnj.org
X-WR-CALDESC:Events for GREENWICH STOW CREEK REGIONAL SCHOOL DISTRICT
REFRESH-INTERVAL;VALUE=DURATION:PT1H
X-Robots-Tag:noindex
X-PUBLISHED-TTL:PT1H
BEGIN:VTIMEZONE
TZID:America/New_York
BEGIN:DAYLIGHT
TZOFFSETFROM:-0500
TZOFFSETTO:-0400
TZNAME:EDT
DTSTART:20240310T070000
END:DAYLIGHT
BEGIN:STANDARD
TZOFFSETFROM:-0400
TZOFFSETTO:-0500
TZNAME:EST
DTSTART:20241103T060000
END:STANDARD
BEGIN:DAYLIGHT
TZOFFSETFROM:-0500
TZOFFSETTO:-0400
TZNAME:EDT
DTSTART:20250309T070000
END:DAYLIGHT
BEGIN:STANDARD
TZOFFSETFROM:-0400
TZOFFSETTO:-0500
TZNAME:EST
DTSTART:20251102T060000
END:STANDARD
BEGIN:DAYLIGHT
TZOFFSETFROM:-0500
TZOFFSETTO:-0400
TZNAME:EDT
DTSTART:20260308T070000
END:DAYLIGHT
BEGIN:STANDARD
TZOFFSETFROM:-0400
TZOFFSETTO:-0500
TZNAME:EST
DTSTART:20261101T060000
END:STANDARD
END:VTIMEZONE
BEGIN:VEVENT
DTSTART;VALUE=DATE:20251104
DTEND;VALUE=DATE:20251105
DTSTAMP:20260424T092523
CREATED:20251030T122151Z
LAST-MODIFIED:20251030T122151Z
UID:5117-1762214400-1762300799@gscnj.org
SUMMARY:School Closed
DESCRIPTION:School Closed – Election Day
URL:https://gscnj.org/event/school-closed-18/
END:VEVENT
BEGIN:VEVENT
DTSTART;VALUE=DATE:20251106
DTEND;VALUE=DATE:20251110
DTSTAMP:20260424T092523
CREATED:20251030T122227Z
LAST-MODIFIED:20251030T122227Z
UID:5119-1762387200-1762732799@gscnj.org
SUMMARY:School Closed
DESCRIPTION:School Closed
URL:https://gscnj.org/event/school-closed-19/
END:VEVENT
BEGIN:VEVENT
DTSTART;VALUE=DATE:20251121
DTEND;VALUE=DATE:20251122
DTSTAMP:20260424T092523
CREATED:20251030T123249Z
LAST-MODIFIED:20251030T123249Z
UID:5149-1763683200-1763769599@gscnj.org
SUMMARY:Parent Teacher Conferences
DESCRIPTION:Parent Teacher Conferences
URL:https://gscnj.org/event/parent-teacher-conferences/
END:VEVENT
BEGIN:VEVENT
DTSTART;TZID=America/New_York:20251121T123000
DTEND;TZID=America/New_York:20251121T170000
DTSTAMP:20260424T092523
CREATED:20251030T122324Z
LAST-MODIFIED:20251030T122324Z
UID:5121-1763728200-1763744400@gscnj.org
SUMMARY:Early Dismissal
DESCRIPTION:Early Dismissal \nStow Creek dismisses at 12:20pm \nMorris Goodwin dismisses at 12:30pm
URL:https://gscnj.org/event/early-dismissal-4/
END:VEVENT
BEGIN:VEVENT
DTSTART;VALUE=DATE:20251124
DTEND;VALUE=DATE:20251126
DTSTAMP:20260424T092523
CREATED:20251030T123331Z
LAST-MODIFIED:20251030T123331Z
UID:5151-1763942400-1764115199@gscnj.org
SUMMARY:Parent Teacher Conferences
DESCRIPTION:Parent Teacher Conferences
URL:https://gscnj.org/event/parent-teacher-conferences-2/
END:VEVENT
BEGIN:VEVENT
DTSTART;VALUE=DATE:20251124
DTEND;VALUE=DATE:20251127
DTSTAMP:20260424T092523
CREATED:20251030T122359Z
LAST-MODIFIED:20251030T122359Z
UID:5123-1763942400-1764201599@gscnj.org
SUMMARY:Early Dismissal
DESCRIPTION:Early Dismissal \nStow Creek dismisses at 12:20pm \nMorris Goodwin dismisses at 12:30pm
URL:https://gscnj.org/event/early-dismissal-5/
END:VEVENT
BEGIN:VEVENT
DTSTART;VALUE=DATE:20251127
DTEND;VALUE=DATE:20251201
DTSTAMP:20260424T092523
CREATED:20251030T122431Z
LAST-MODIFIED:20251030T122431Z
UID:5125-1764201600-1764547199@gscnj.org
SUMMARY:School Closed
DESCRIPTION:School Closed
URL:https://gscnj.org/event/school-closed-20/
END:VEVENT
END:VCALENDAR